BEGIN:VCALENDAR
VERSION:2.0
PRODID:-//ChamberMaster//Event Calendar 2.0//EN
METHOD:PUBLISH
X-PUBLISHED-TTL:P1H
REFRESH-INTERVAL:P1H
CALSCALE:GREGORIAN
BEGIN:VTIMEZONE
TZID:America/New_York
BEGIN:DAYLIGHT
RRULE:FREQ=YEARLY;BYMONTH=3;BYDAY=2SU
DTSTART:20070101T000000
TZOFFSETFROM:-0500
TZOFFSETTO:-0400
TZNAME:Eastern Daylight Time
END:DAYLIGHT
BEGIN:STANDARD
RRULE:FREQ=YEARLY;BYMONTH=11;BYDAY=1SU
DTSTART:20070101T000000
TZOFFSETFROM:-0400
TZOFFSETTO:-0500
TZNAME:Eastern Standard Time
END:STANDARD
END:VTIMEZONE
BEGIN:VEVENT
DTSTART;TZID=America/New_York:20260512T100000
DTEND;TZID=America/New_York:20260512T103000
X-MICROSOFT-CDO-ALLDAYEVENT:FALSE
SUMMARY:Ribbon Cutting at Pacelli's Bakery
DESCRIPTION:Join us as we celebrate Pacelli's Bakery with a Ribbon Cutting Ceremony!\nDate & Time: Tuesday\, May 12th at 10 AM\nLocation: 1137 Jeffreys Road\, Rocky Mount\, NC 27804\nCome out to show your support! See you there!
X-ALT-DESC;FMTTYPE=text/html:Join us as we celebrate Pacelli's Bakery with a Ribbon Cutting Ceremony!\nDate & Time: Tuesday\, May 12th at 10 AM\nLocation: 1137 Jeffreys Road\, Rocky Mount\, NC 27804\nCome out to show your support! See you there!
LOCATION:1137 Jeffreys Rd Rocky Mount NC 27804
UID:e.3936.1437835
SEQUENCE:3
DTSTAMP:20260423T084737Z
URL:https://business.rockymountchamber.org/community-calendar/Details/ribbon-cutting-at-pacelli-s-bakery-1701856?sourceTypeId=Hub
END:VEVENT
END:VCALENDAR
